BEGIN:VCALENDAR
VERSION:2.0
PRODID:-//The York Festival, Western Australia - Sept 26- Oct 11, 2020 - ECPv4.9.1.1//NONSGML v1.0//EN
CALSCALE:GREGORIAN
METHOD:PUBLISH
X-WR-CALNAME:The York Festival, Western Australia - Sept 26- Oct 11, 2020
X-ORIGINAL-URL:https://yorkfestival.com.au
X-WR-CALDESC:Events for The York Festival, Western Australia - Sept 26- Oct 11, 2020
BEGIN:VEVENT
DTSTART;TZID=Australia/Perth:20190929T140000
DTEND;TZID=Australia/Perth:20190929T160000
DTSTAMP:20200301T222500
CREATED:20190725T130634Z
LAST-MODIFIED:20190907T130118Z
UID:5711-1569765600-1569772800@yorkfestival.com.au
SUMMARY:YORK ARCHITECTURE WALK
DESCRIPTION:Lucky York! So many fabulous buildings! \nAll through the 19th century\, everyone thought York would be the most important inland town and so they built to last and they built well. \nWestern Australia’s most important early architects had a hand in designing York: \n\nRichard Roach Jewell (Government House\, the Barracks Arch)\nJoseph Nunan (Fenian convict)\nJames Wright (Perth’s first consulting architect)\nGeorge Temple-Poole (famous gold rush government architect)\nJJ Talbot Hobbs (wartime hero)\nWilliam George Wolf (His Majesty’s Theatre)\nChristian Mouritzen (who worked with Poole)\n\nThis two hour walk will cover the great architects\, buildings and styles of York and will be given on the first two Sunday afternoons during the York Festival 2019 commencing at 2 pm from the architectural wonder\, the Town Hall:  Sunday 29 September and Sunday 6 October. \nThe walk is free.  Limit 80 people. \n  \n
URL:https://yorkfestival.com.au/event/york-architecture-walk/2019-09-29/
CATEGORIES:Free,History
ATTACH;FMTTYPE=image/png:/wp-content/uploads/2019/07/arch-tour.png
END:VEVENT
END:VCALENDAR