BEGIN:VCALENDAR
VERSION:2.0
PRODID:-//The York Festival, Western Australia - Sept 26- Oct 11, 2020 - ECPv4.9.1.1//NONSGML v1.0//EN
CALSCALE:GREGORIAN
METHOD:PUBLISH
X-WR-CALNAME:The York Festival, Western Australia - Sept 26- Oct 11, 2020
X-ORIGINAL-URL:https://yorkfestival.com.au
X-WR-CALDESC:Events for The York Festival, Western Australia - Sept 26- Oct 11, 2020
BEGIN:VEVENT
DTSTART;VALUE=DATE:20190928
DTEND;VALUE=DATE:20191014
DTSTAMP:20200301T220412
CREATED:20180709T143545Z
LAST-MODIFIED:20190819T043622Z
UID:4829-1569628800-1571011199@yorkfestival.com.au
SUMMARY:WARA ART YORK presented by LiveLighter
DESCRIPTION:If you’ve never heard of Wara Art\, that is all about to change.  While some rural communities have their scarecrows\, Japan and now York\, WA has Wara Art – a spectacular example of a highly creative use of straw. \nWara (rice straw) Art was developed as a way of finding a creative use of the excess straw leftover at the end of the rice harvest.  Once used to make things like tatami mats\, rice straw has been replaced by modern synthetic materials\, leaving farmers with an abundance of straw.   The resulting sculptures spawned a new art practice and Wara Art Festivals are now held each year throughout Japan.   Last year York created three sculptures: the Bilby\, the Tortoise and the Frog.   These sculptures have aged gracefully over the year and will be available to view on the new Wara Art walking trail around York later this year. \nMeanwhile\, in August 2019 Professor Shingo Miyajima\, Akira Moriya and Masaharu Noguchi\, veterans of around twenty five Wara art sculptures\, will travel to York to oversee the construction of four representations of endangered Australian fauna\, made using locally sourced wheat straw. \nProfessor Miyajima\, Mr Moriya and Mr Noguchi are working alongside artists that include fibre weaver Fiona Gavino\, sculptor Yuko Takahashi and Ilsa Bennion to create the sculptures which are being installed throughout York’s town centre. \nThe York Festival extends an invitation to artists and anyone interested in volunteering to help in their construction.  All you need to do is find a day or two to spare between 19th August and September 30th.  Want to know more? Email Sorry\, for security reasons our email address can only be displayed with JavaScript enabled. to find out more. \n    \n
URL:https://yorkfestival.com.au/event/wara-art-comes-to-york/
CATEGORIES:Activities,Art,Entertainment,Installation
ATTACH;FMTTYPE=image/jpeg:/wp-content/uploads/2018/07/38A8946-Edit.jpg
END:VEVENT
END:VCALENDAR