BEGIN:VCALENDAR
VERSION:2.0
PRODID:-//The York Festival, Western Australia - Sept 26- Oct 11, 2020 - ECPv4.9.1.1//NONSGML v1.0//EN
CALSCALE:GREGORIAN
METHOD:PUBLISH
X-WR-CALNAME:The York Festival, Western Australia - Sept 26- Oct 11, 2020
X-ORIGINAL-URL:https://yorkfestival.com.au
X-WR-CALDESC:Events for The York Festival, Western Australia - Sept 26- Oct 11, 2020
BEGIN:VEVENT
DTSTART;TZID=Australia/Perth:20191012T160000
DTEND;TZID=Australia/Perth:20191012T174500
DTSTAMP:20200301T220213
CREATED:20190726T141114Z
LAST-MODIFIED:20190909T053538Z
UID:5893-1570896000-1570902300@yorkfestival.com.au
SUMMARY:WALKING TOUR OF HORRORS
DESCRIPTION:“Take any building in York and someone has died there!”  So begins Rob Garton Smith’s popular Walking Tour of Horrors\, which returns once only to the York Festival in 2019. \nThis walking tour details murders\, accidents\, suicides\, and all manner of ghastly deaths in York from the 1830s to modern times\, mostly in the places where they occurred. \nHear about \n\nthe duel over a literary matter\nthe convict hanged for an axe murder he did not commit\nthe danger of shopping at Monger’s trading post\nAdeline who drowned on her honeymoon\nthe deadly gang fight at the Castle hotel\nthe man found lying on the rail before an oncoming train\nthe children who died in the flames\nawful horse accidents\nthe sad story of Charles Playter on a hot summer’s night\,\na neck-breaking lark at the town hall\, and lots more.\n\nParticipants will be invited to take part in some of the dramatic re-enactments\, with the most gruesome roles being reserved for children. \nThis walk will start at Botanicalia 152 Avon Tce on  at 4:00 pm and will finish around 5:45 pm – the length of a thriller feature film. \nDate:      Saturday 28 September and Saturday 12 October 2019\nVenue:   Botanicalia 152 Avon Terrace\nTime:     4.00 to 5.45pm\nCost:      Free \n
URL:https://yorkfestival.com.au/event/walking-tour-of-horrors/2019-10-12/
CATEGORIES:Activities,Entertainment,Free,History,Kids
ATTACH;FMTTYPE=image/png:/wp-content/uploads/2019/07/Walking-tour-of-horrors-e1565004925473.png
END:VEVENT
END:VCALENDAR