BEGIN:VCALENDAR
VERSION:2.0
PRODID:-//The York Festival, Western Australia - Sept 26- Oct 11, 2020 - ECPv4.9.1.1//NONSGML v1.0//EN
CALSCALE:GREGORIAN
METHOD:PUBLISH
X-WR-CALNAME:The York Festival, Western Australia - Sept 26- Oct 11, 2020
X-ORIGINAL-URL:https://yorkfestival.com.au
X-WR-CALDESC:Events for The York Festival, Western Australia - Sept 26- Oct 11, 2020
BEGIN:VEVENT
DTSTART;TZID=Australia/Perth:20190930T110000
DTEND;TZID=Australia/Perth:20190930T120000
DTSTAMP:20200301T222658
CREATED:20180808T131658Z
LAST-MODIFIED:20190809T100431Z
UID:5032-1569841200-1569844800@yorkfestival.com.au
SUMMARY:TOUR OF YORK'S HISTORIC PUBLIC CLOCKS
DESCRIPTION:Which of York’s clocks was known as \nThe Clock That Never Works?\nThe Clock that Won Three Times?\nThe Clock that was Photoshopped?\nThe Clock that went missing for over half a century …… but MAY have recently been found ? \nJoin tour guide Ian Phillips to find out the answers to these questions and many more on this walking tour of York’s historic public clocks. \nDate:  Monday September 30 & Sunday October 6\nTime:  11am\nCost:  Free\nStarts at the York Town Hall. \n
URL:https://yorkfestival.com.au/event/tour-of-yorks-historic-public-clocks/2019-09-30/
CATEGORIES:Activities,Entertainment,Free,History
ATTACH;FMTTYPE=image/jpeg:/wp-content/uploads/2018/08/Cropped-Town-Hall-edited-CLOCK-TOUR-e1565345062975.jpg
END:VEVENT
END:VCALENDAR