BEGIN:VCALENDAR
VERSION:2.0
PRODID:-//The York Festival, Western Australia - Sept 26- Oct 11, 2020 - ECPv4.9.1.1//NONSGML v1.0//EN
CALSCALE:GREGORIAN
METHOD:PUBLISH
X-WR-CALNAME:The York Festival, Western Australia - Sept 26- Oct 11, 2020
X-ORIGINAL-URL:https://yorkfestival.com.au
X-WR-CALDESC:Events for The York Festival, Western Australia - Sept 26- Oct 11, 2020
BEGIN:VEVENT
DTSTART;TZID=Australia/Perth:20191006T100000
DTEND;TZID=Australia/Perth:20191006T123000
DTSTAMP:20200301T221712
CREATED:20180618T102024Z
LAST-MODIFIED:20190921T233726Z
UID:4608-1570356000-1570365000@yorkfestival.com.au
SUMMARY:THE RUNNING OF THE LAMBS
DESCRIPTION:Registration is open  for the hit event from the 2018 York Festival – The Running of the Lambs – a costumed obstacle adventure full of fun\, frolics and guaranteed laughs. \nStarts with a fun warm up session and participants then walk or run the course and complete the obstacles dressed in their best lamb onesie (preferably hand-made). \nThis year includes two new competition categories – the Ewe Beauties Challenge (for  mums) and the Ram’s Rampage (for dads). \nRegistration open at 10am\nWarm up and costume judging at 10.30am\nRace commences 10.45am\nEwe Beauties Race 12.00pm\nRams Rampage 12.10pm\nPrize giving ceremony 12.20pm \nPrizes will be awarded for: \n\nBest Dressed Lamb\nMost Glamorous Lamb\nBest Super-Hero Lamb\nBest Dressed Family\nOverall course winners\nFastest Ewe\nFastest Ram\n\nFree event.\nDuration: 2 hours.\nRegistrations open now! \n\n                \n                        \n                            Running of the Lambs Entry Form\n                            \n                        \n                        Flock BossMust be filled out by a legal adult\, or the guardian or parent of any children being nominated.Name*\n                            \n                            \n                                                    \n                                                    First\n                                                \n                            \n                            \n                                                    \n                                                    Last\n                                                \n                            \n                        Email*\n                                \n                                    \n                                    Enter Email\n                                \n                                \n                                    \n                                    Confirm Email\n                                \n                                \n                            Phone*Town/SuburbPlease also enrol me for(leave blank  if none apply)The Ewe Beauties ChallengeThe Ram's RampageVolunteer ShepherdNoneFlock DetailsList all participating parties from your flock. List\n\n						body .ginput_container_list table.gfield_list tbody tr td.gfield_list_icons {\n							vertical-align: middle !important;\n						}\n\n						body .ginput_container_list table.gfield_list tbody tr td.gfield_list_icons img {\n							background-color: transparent !important;\n							background-position: 0 0;\n							background-size: 16px 16px !important;\n							background-repeat: no-repeat;\n							border: none !important;\n							width: 16px !important;\n							height: 16px !important;\n							opacity: 0.5;\n							transition: opacity .5s ease-out;\n						    -moz-transition: opacity .5s ease-out;\n						    -webkit-transition: opacity .5s ease-out;\n						    -o-transition: opacity .5s ease-out;\n						}\n\n						body .ginput_container_list table.gfield_list tbody tr td.gfield_list_icons a:hover img {\n							opacity: 1.0;\n						}\n\n						First NameLast NameAgeEntry Type (ROTL\, EBC\, RR)       (use "+" icon to add more to your flock)Child & Adult Waiver and ConsentTo:  York Arts and Events\, Inc\n\nFor letting my child/myself participate in the Running of the Lambs ( the event)\, I agree as follows: \n\nI am not aware of any pre-existing medical condition or injuries that may affect my child’s / my ability to participate in the event.\nI acknowledge that the organisers of the event have taken every care to provide a safe course for the event.\nI assume all responsibility for any injury to my child/myself while participating in the event.\nI will not make a claim against York Arts & Events\, Inc or any member\, officer or volunteer\, whether on my own behalf or on behalf of my child in relation to the event.\nI consent to photos or videos taken (which may include my child/myself) being used in future promotional materials for the York Festival or other events run by York Arts & Events\, Inc. \n\nAgreement*\n								\n								I have read and agree to the above\n							Signature\n                            \n          \n            \n            \n            \n            \n            \n            \n            \n            \n            \n        \n                        \n                         jQuery(document).bind('gform_post_render'\, function(event\, formId\, currentPage){if(formId == 11) {if( typeof SuperSignature != 'undefined' && jQuery('#input_11_12').length ) { window.objinput_11_12 = new SuperSignature( {"SignObject":"input_11_12"\,"BackColor":"#FFFFFF"\,"PenSize":"2"\,"PenColor":"#000000"\,"SignWidth":"300"\,"SignHeight":"180"\,"BorderStyle":"Dashed"\,"BorderWidth":"2px"\,"BorderColor":"#DDDDDD"\,"RequiredPoints":"15"\,"ClearImage":"https:\/\/yorkfestival.com.au\/wp-content\/plugins\/gravityformssignature\/includes\/super_signature\/refresh.png"\,"PenCursor":"https:\/\/yorkfestival.com.au\/wp-content\/plugins\/gravityformssignature\/includes\/super_signature\/pen.cur"\,"Visible":true\,"ErrorMessage":""\,"StartMessage":""\,"SuccessMessage":""\,"forceMouseEvent":true\,"IeModalFix":0} );objinput_11_12.Init();jQuery('#gform_11').submit(function(){    jQuery('#input_11_12_valid').val(objinput_11_12.IsValid() || jQuery('#input_11_12_signature_filename').val() ? '1' : '');}); }} } );jQuery(document).bind('gform_post_conditional_logic'\, function(event\, formId\, fields\, isInit){} ); jQuery(document).ready(function(){jQuery(document).trigger('gform_post_render'\, [11\, 1]) } ); \n
URL:https://yorkfestival.com.au/event/the-running-of-the-lambs/
CATEGORIES:Activities,Competition,Kids
ATTACH;FMTTYPE=image/jpeg:/wp-content/uploads/2018/06/20170917-3S1A8627edit.jpg
END:VEVENT
END:VCALENDAR