BEGIN:VCALENDAR
VERSION:2.0
PRODID:-//The York Festival, Western Australia - Sept 26- Oct 11, 2020 - ECPv4.9.1.1//NONSGML v1.0//EN
CALSCALE:GREGORIAN
METHOD:PUBLISH
X-WR-CALNAME:The York Festival, Western Australia - Sept 26- Oct 11, 2020
X-ORIGINAL-URL:https://yorkfestival.com.au
X-WR-CALDESC:Events for The York Festival, Western Australia - Sept 26- Oct 11, 2020
BEGIN:VEVENT
DTSTART;TZID=Australia/Perth:20190929T160000
DTEND;TZID=Australia/Perth:20190929T200000
DTSTAMP:20200301T221523
CREATED:20190827T113031Z
LAST-MODIFIED:20190902T234048Z
UID:5876-1569772800-1569787200@yorkfestival.com.au
SUMMARY:GALLERY NIGHTS: STORIES THROUGH SONG
DESCRIPTION:\n\nOriginal music returns to Gallery 152 with performances from Moose Nicholson\, Red Saxguy\, Alli Butler\, Nick Childs\, Gracie B and Chris Gibbs in a celebration of Wheatbelt region singer-songwriters. \nPresented by Noise-a-thon Records and Gallery 152 as part of the 2019 York Festival. \nPre-sale tickets available through Eventbrite at the special price of $10 +bf\, door sales at the event are $15. \nFREE entry for kids 12 and under when accompanied by a paying adult. \nThis is a licensed event with food from Meals By Meghan and drinks available. \n\n  \n\n
URL:https://yorkfestival.com.au/event/gallery-nights-stories-through-song/
ATTACH;FMTTYPE=image/jpeg:/wp-content/uploads/2019/08/fb-version-sts-e1567467598932.jpg
END:VEVENT
END:VCALENDAR