BEGIN:VCALENDAR
VERSION:2.0
PRODID:-//The York Festival, Western Australia - Sept 26- Oct 11, 2020 - ECPv4.9.1.1//NONSGML v1.0//EN
CALSCALE:GREGORIAN
METHOD:PUBLISH
X-WR-CALNAME:The York Festival, Western Australia - Sept 26- Oct 11, 2020
X-ORIGINAL-URL:https://yorkfestival.com.au
X-WR-CALDESC:Events for The York Festival, Western Australia - Sept 26- Oct 11, 2020
BEGIN:VEVENT
DTSTART;TZID=Australia/Perth:20191013T113000
DTEND;TZID=Australia/Perth:20191013T153000
DTSTAMP:20200301T221934
CREATED:20190917T134658Z
LAST-MODIFIED:20190917T134658Z
UID:5929-1570966200-1570980600@yorkfestival.com.au
SUMMARY:FREE COMMUNITY CONCERT
DESCRIPTION:Enjoy the York Festival Community Concert in Peace Park featuring WA artists Kat Wilson\, The Terror Adaptors\, The Skelton Collective\, Natasha Eldridge and MC Chris Gibbs. \nFree family entertainment including markets – bring a picnic or enjoy the food vans\, kick back and chill out. \n
URL:https://yorkfestival.com.au/event/free-community-concert/
CATEGORIES:Concert,Entertainment,Free,Kids,Markets,Music
ATTACH;FMTTYPE=image/png:/wp-content/uploads/2019/09/comm-concert-e1568727925673.png
END:VEVENT
END:VCALENDAR