BEGIN:VCALENDAR
VERSION:2.0
PRODID:-//The York Festival, Western Australia - Sept 26- Oct 11, 2020 - ECPv4.9.1.1//NONSGML v1.0//EN
CALSCALE:GREGORIAN
METHOD:PUBLISH
X-WR-CALNAME:The York Festival, Western Australia - Sept 26- Oct 11, 2020
X-ORIGINAL-URL:https://yorkfestival.com.au
X-WR-CALDESC:Events for The York Festival, Western Australia - Sept 26- Oct 11, 2020
BEGIN:VEVENT
DTSTART;TZID=Australia/Perth:20191012T100000
DTEND;TZID=Australia/Perth:20191012T120000
DTSTAMP:20200301T215215
CREATED:20191010T134100Z
LAST-MODIFIED:20191010T134430Z
UID:5985-1570874400-1570881600@yorkfestival.com.au
SUMMARY:FOOTY FUN with PERTH FOOTBALL CLUB
DESCRIPTION:Do you wanna have some fun?\nDo you wanna test your football skills? \nPlayers from the Perth Football Club will be down at Avon Park on Saturday 12 October where you can learn a new skill or improve on an existing one. There will be handball and kicking competitions with lots of giveaways and prizes on offer. \nCome and meet the Demons between 10am and 12pm – FREE! \n
URL:https://yorkfestival.com.au/event/footy-fun-with-perth-football-club/
ATTACH;FMTTYPE=image/png:/wp-content/uploads/2019/10/YORKPFCHEADER-e1570714839870.png
END:VEVENT
END:VCALENDAR