BEGIN:VCALENDAR
VERSION:2.0
PRODID:-//The York Festival, Western Australia - Sept 26- Oct 11, 2020 - ECPv4.9.1.1//NONSGML v1.0//EN
CALSCALE:GREGORIAN
METHOD:PUBLISH
X-WR-CALNAME:The York Festival, Western Australia - Sept 26- Oct 11, 2020
X-ORIGINAL-URL:https://yorkfestival.com.au
X-WR-CALDESC:Events for The York Festival, Western Australia - Sept 26- Oct 11, 2020
BEGIN:VEVENT
DTSTART;TZID=Australia/Perth:20191012T110000
DTEND;TZID=Australia/Perth:20191012T123000
DTSTAMP:20200301T220204
CREATED:20190726T140341Z
LAST-MODIFIED:20190805T113440Z
UID:5722-1570878000-1570883400@yorkfestival.com.au
SUMMARY:BUSINESS TIPS FROM THE RICHEST MAN IN THE COLONY
DESCRIPTION:How do the rich get so rich?  The early days of Western Australia saw John Henry Monger Snr go from having nothing to being the richest man in the colony in 30 years. \nFund manager Rob Garton Smith takes a business perspective to analyse why Monger was so successful by following his business decisions from his arrival in the Colony in 1829 as an assisted immigrant to becoming the owner of grand mansions in York and Perth and 70\,000 acres of farmland. \n\nWhat decisions did Monger make?\nWhat lessons can be learnt?\nCan you make money and help others?\n\nBring your top hat and notebook to record 60 hot business tips as you walk around “Monger’s Town” (Faversham House\, the Sandalwood Yards\, Monger’s Ford) and hear John Henry Monger’s amazing story. \nDate:      Saturday 28 September and Saturday 12 October\nVenue:   Botanicalia 152 Avon Terrace\nTime:     11am – 12.30pm\nCost:      Free \n  \n
URL:https://yorkfestival.com.au/event/business-tips-from-the-richest-man-in-the-colony/2019-10-12/
CATEGORIES:Activities,Entertainment,Free,History
ATTACH;FMTTYPE=image/jpeg:/wp-content/uploads/2019/07/Business-Tips-form-the-Richest-Man-in-the-Colony-e1565004873476.jpg
END:VEVENT
END:VCALENDAR