BEGIN:VCALENDAR
VERSION:2.0
PRODID:-//The York Festival, Western Australia - Sept 26- Oct 11, 2020 - ECPv4.9.1.1//NONSGML v1.0//EN
CALSCALE:GREGORIAN
METHOD:PUBLISH
X-WR-CALNAME:The York Festival, Western Australia - Sept 26- Oct 11, 2020
X-ORIGINAL-URL:https://yorkfestival.com.au
X-WR-CALDESC:Events for The York Festival, Western Australia - Sept 26- Oct 11, 2020
BEGIN:VEVENT
DTSTART;TZID=Australia/Perth:20190930T100000
DTEND;TZID=Australia/Perth:20190930T160000
DTSTAMP:20200301T222112
CREATED:20190921T033900Z
LAST-MODIFIED:20191009T235458Z
UID:5942-1569837600-1569859200@yorkfestival.com.au
SUMMARY:ARCHERY IN THE PARK
DESCRIPTION:Your chance to practice the ancient art of using a bow to shoot arrows! \nFor thousands of years\, humans have used the bow and arrow for hunting and warfare. Today\, you can buy bows equipped with devices and sights to help you aim accurately and hit a bull’s-eye almost every time they’re drawn. \nBut ancient archers had to learn how to aim without sights. This skill — called instinctive shooting — requires years of trial and error to master. Through consistent practice\, the body and mind intuitively learn how to adjust the aim of the bow to accommodate different shooting distances. Instinctive shooting is a lot like throwing a baseball or shooting a basketball. \nTo successfully shoot a bow and arrow intuitively\, you’ve got to try not to try\, because the moment you start trying too hard to aim\, you end up missing the target completely. So it goes in life as well. \nFree activity: 10am to 4pm Saturday 12 October.  Monger Reserve ( next to Sunnies Carriage Diner) South Street\n \n
URL:https://yorkfestival.com.au/event/archery-in-the-park/2019-09-30/
CATEGORIES:Activities,Exhibitions,Free,Kids
ATTACH;FMTTYPE=image/png:/wp-content/uploads/2019/09/archery-e1569036816403.png
END:VEVENT
END:VCALENDAR