BEGIN:VCALENDAR
VERSION:2.0
PRODID:-//The York Festival, Western Australia - Sept 26- Oct 11, 2020 - ECPv4.9.1.1//NONSGML v1.0//EN
CALSCALE:GREGORIAN
METHOD:PUBLISH
X-WR-CALNAME:The York Festival, Western Australia - Sept 26- Oct 11, 2020
X-ORIGINAL-URL:https://yorkfestival.com.au
X-WR-CALDESC:Events for The York Festival, Western Australia - Sept 26- Oct 11, 2020
BEGIN:VEVENT
DTSTART;TZID=Australia/Perth:20190929T090000
DTEND;TZID=Australia/Perth:20190929T160000
DTSTAMP:20200301T214845
CREATED:20180812T154829Z
LAST-MODIFIED:20190805T114601Z
UID:5041-1569747600-1569772800@yorkfestival.com.au
SUMMARY:ACT-BELONG-COMMIT MEDIEVAL FAYRE
DESCRIPTION:From historic fight displays to Morris dancers and weaponry\, horse archery and perhaps one or two knights errant\, the Act-Belong-Commit 2019 Medieval Fayre evokes all the ‘fun’ of medieval times.  Hosted by the York Friendship Club. \nDate: 29th September\nVenue:  Avon Park\, Lowe St\nGates Open:  9am\nEntry:  $5pp at gate (kids free) \n \n
URL:https://yorkfestival.com.au/event/act-belong-commit-medieval-fayre/
CATEGORIES:Activities,Entertainment,History,Kids,Markets,Music,Ticketed
ATTACH;FMTTYPE=image/jpeg:/wp-content/uploads/2018/08/DSC09357-e1565005550314.jpg
END:VEVENT
END:VCALENDAR