BEGIN:VCALENDAR
VERSION:2.0
PRODID:-//The York Festival, Western Australia - Sept 26- Oct 11, 2020 - ECPv4.9.1.1//NONSGML v1.0//EN
CALSCALE:GREGORIAN
METHOD:PUBLISH
X-WR-CALNAME:The York Festival, Western Australia - Sept 26- Oct 11, 2020
X-ORIGINAL-URL:https://yorkfestival.com.au
X-WR-CALDESC:Events for The York Festival, Western Australia - Sept 26- Oct 11, 2020
BEGIN:VEVENT
DTSTART;TZID=Australia/Perth:20191003T100000
DTEND;TZID=Australia/Perth:20191013T160000
DTSTAMP:20200301T222554
CREATED:20190916T135424Z
LAST-MODIFIED:20190916T135424Z
UID:5926-1570096800-1570982400@yorkfestival.com.au
SUMMARY:3D Chalk Pavement Painting
DESCRIPTION:Anton Pulverenti from Zest International will be working on the creation of some exciting 3D chalk pavement painting in the Courtyard outside the Council offices from Thursday October 3rd…… \n
URL:https://yorkfestival.com.au/event/3d-chalk-pavement-painting/
CATEGORIES:Art,Free,Installation,Kids
ATTACH;FMTTYPE=image/jpeg:/wp-content/uploads/2019/09/chalk.jpg
END:VEVENT
END:VCALENDAR